BEGIN:VCALENDAR
VERSION:2.0
PRODID:-//The Possible Zone - ECPv6.15.11//NONSGML v1.0//EN
CALSCALE:GREGORIAN
METHOD:PUBLISH
X-WR-CALNAME:The Possible Zone
X-ORIGINAL-URL:https://possiblezone.org
X-WR-CALDESC:Events for The Possible Zone
REFRESH-INTERVAL;VALUE=DURATION:PT1H
X-Robots-Tag:noindex
X-PUBLISHED-TTL:PT1H
BEGIN:VTIMEZONE
TZID:America/New_York
BEGIN:DAYLIGHT
TZOFFSETFROM:-0500
TZOFFSETTO:-0400
TZNAME:EDT
DTSTART:20240310T070000
END:DAYLIGHT
BEGIN:STANDARD
TZOFFSETFROM:-0400
TZOFFSETTO:-0500
TZNAME:EST
DTSTART:20241103T060000
END:STANDARD
BEGIN:DAYLIGHT
TZOFFSETFROM:-0500
TZOFFSETTO:-0400
TZNAME:EDT
DTSTART:20250309T070000
END:DAYLIGHT
BEGIN:STANDARD
TZOFFSETFROM:-0400
TZOFFSETTO:-0500
TZNAME:EST
DTSTART:20251102T060000
END:STANDARD
BEGIN:DAYLIGHT
TZOFFSETFROM:-0500
TZOFFSETTO:-0400
TZNAME:EDT
DTSTART:20260308T070000
END:DAYLIGHT
BEGIN:STANDARD
TZOFFSETFROM:-0400
TZOFFSETTO:-0500
TZNAME:EST
DTSTART:20261101T060000
END:STANDARD
END:VTIMEZONE
BEGIN:VEVENT
DTSTART;VALUE=DATE:20251128
DTEND;VALUE=DATE:20251129
DTSTAMP:20260425T170741
CREATED:20250424T211411Z
LAST-MODIFIED:20250424T211411Z
UID:10524-1764288000-1764374399@possiblezone.org
SUMMARY:TPZ Closed
DESCRIPTION:
URL:https://possiblezone.org/events/tpz-closed-2/
END:VEVENT
BEGIN:VEVENT
DTSTART;VALUE=DATE:20251127
DTEND;VALUE=DATE:20251128
DTSTAMP:20260425T170741
CREATED:20250424T211353Z
LAST-MODIFIED:20250424T211353Z
UID:10522-1764201600-1764287999@possiblezone.org
SUMMARY:Thanksgiving - TPZ Closed
DESCRIPTION:
URL:https://possiblezone.org/events/thanksgiving-tpz-closed/
END:VEVENT
BEGIN:VEVENT
DTSTART;TZID=America/New_York:20251126T140000
DTEND;TZID=America/New_York:20251126T170000
DTSTAMP:20260425T170741
CREATED:20250424T211329Z
LAST-MODIFIED:20250424T211329Z
UID:10520-1764165600-1764176400@possiblezone.org
SUMMARY:TPZ Closing @ 2pm
DESCRIPTION:
URL:https://possiblezone.org/events/tpz-closing-2pm-2/
END:VEVENT
BEGIN:VEVENT
DTSTART;TZID=America/New_York:20251113T160000
DTEND;TZID=America/New_York:20251113T170000
DTSTAMP:20260425T170741
CREATED:20250515T204131Z
LAST-MODIFIED:20250515T204131Z
UID:10612-1763049600-1763053200@possiblezone.org
SUMMARY:TPZ Innovation Center Community Tour
DESCRIPTION:November 13\, 2025   |  4:00-5:00 p.m. \nCome tour the TPZ Innovation Center at 31 Health Street\, led by the TPZ Partnerships Team. \nReserve your spot today!
URL:https://possiblezone.org/events/tpz-innovation-center-community-tour-4/
END:VEVENT
BEGIN:VEVENT
DTSTART;VALUE=DATE:20251111
DTEND;VALUE=DATE:20251112
DTSTAMP:20260425T170741
CREATED:20250424T211250Z
LAST-MODIFIED:20250424T211250Z
UID:10518-1762819200-1762905599@possiblezone.org
SUMMARY:Veterans Day - TPZ Closed
DESCRIPTION:
URL:https://possiblezone.org/events/veterans-day-tpz-closed/
END:VEVENT
BEGIN:VEVENT
DTSTART;TZID=America/New_York:20251024T080000
DTEND;TZID=America/New_York:20251024T180000
DTSTAMP:20260425T170741
CREATED:20250424T211216Z
LAST-MODIFIED:20250424T211216Z
UID:10516-1761292800-1761328800@possiblezone.org
SUMMARY:FastForge Hackathon
DESCRIPTION:
URL:https://possiblezone.org/events/fastforge-hackathon-2/
END:VEVENT
BEGIN:VEVENT
DTSTART;VALUE=DATE:20251017
DTEND;VALUE=DATE:20251018
DTSTAMP:20260425T170741
CREATED:20250424T211113Z
LAST-MODIFIED:20250424T211113Z
UID:10514-1760659200-1760745599@possiblezone.org
SUMMARY:TPZ Innovation Center Closed
DESCRIPTION:
URL:https://possiblezone.org/events/tpz-innovation-center-closed/
END:VEVENT
BEGIN:VEVENT
DTSTART;TZID=America/New_York:20251016T160000
DTEND;TZID=America/New_York:20251016T170000
DTSTAMP:20260425T170741
CREATED:20250515T203950Z
LAST-MODIFIED:20250515T203950Z
UID:10605-1760630400-1760634000@possiblezone.org
SUMMARY:TPZ Innovation Center Community Tour
DESCRIPTION:October 16\, 2025   |  4:00-5:00 p.m. \nCome tour the TPZ Innovation Center at 31 Health Street\, led by the TPZ Partnerships Team. \nReserve your spot today!
URL:https://possiblezone.org/events/tpz-innovation-center-community-tour-3/
END:VEVENT
BEGIN:VEVENT
DTSTART;VALUE=DATE:20251013
DTEND;VALUE=DATE:20251014
DTSTAMP:20260425T170741
CREATED:20250424T211041Z
LAST-MODIFIED:20250424T211041Z
UID:10512-1760313600-1760399999@possiblezone.org
SUMMARY:Indigenous Persons Day - TPZ Closed
DESCRIPTION:
URL:https://possiblezone.org/events/indigenous-persons-day-tpz-closed/
END:VEVENT
BEGIN:VEVENT
DTSTART;TZID=America/New_York:20250927T120000
DTEND;TZID=America/New_York:20250927T160000
DTSTAMP:20260425T170741
CREATED:20250812T162859Z
LAST-MODIFIED:20250922T221809Z
UID:10841-1758974400-1758988800@possiblezone.org
SUMMARY:2025 Youth Entrepreneurship Summit
DESCRIPTION:REGISTRATION HAS CLOSED \nSaturday\, September 27\n12:00-4:00pm\nThe Possible Zone | 31 Heath Street Jamaica Plain \nFREE EVENT \n– youth who attend all day will receive a $25 gift card! \nStudent Workshops \nCreating Your Brand and Logo with Danielle Johnson\nFounder & CEO of Spark FM Boston’s Radio Station \nBaking & Business with Quontay Turner\nOwner of Emerald City Plant Shop \nFashion & Entrepreneurship with Joshua Elysee\nInternational Marketing Specialist for HEYDUDE \nThe Hip Hop Experience” with Jazzmyn RED\, Artist Educator\, U.S. Ambassador of Hip Hop & Cultural Exchange\n \n  \nFamily Workshops \nFinancial Literacy \nExploring Careers\nof the Future \n  \nTHANK YOU TO OUR PARTNERS! \nCenter for Women & Enterprise \nCity of Boston Office of Youth Engagement and Advancement \n  \naturday\, September 27\n12:00-4:00pm\nThe Possible Zone | 31 Heath Street Jamaica Plain \nFREE EVENT \n– youth who attend all day will receive a $25 gift card! \nStudent Workshops \nCreating Your Brand and Logo with Danielle Johnson\nFounder & CEO of Spark FM Boston’s Radio Station \nBaking & Business with Quontay Turner\nOwner of Emerald City Plant Shop \nFashion & Entrepreneurship with Joshua Elysee\nInternational Marketing Specialist for HEYDUDE \nThe Hip Hop Experience” with Jazzmyn RED\, Artist Educator\, U.S. Ambassador of Hip Hop & Cultural Exchange\n \n  \nFamily Workshops \nFinancial Literacy \nExploring Careers\nof the Future \n  \nTHANK YOU TO OUR PARTNERS! \nCenter for Women & Enterprise \nCity of Boston Office of Youth Engagement and Advancement \nREGISTRATION HAS CLOSED
URL:https://possiblezone.org/events/2025-youth-entrepreneurship-summit-2/
LOCATION:TPZ Innovation Center\, 31 Heath Street\, Jamaica Plain\, MA\, 02130\, United States
ATTACH;FMTTYPE=image/jpeg:https://possiblezone.org/wp-content/uploads/2025/08/2025-Youth-Summit-Social-Post.jpg
END:VEVENT
BEGIN:VEVENT
DTSTART;TZID=America/New_York:20250925T160000
DTEND;TZID=America/New_York:20250925T170000
DTSTAMP:20260425T170741
CREATED:20250515T203916Z
LAST-MODIFIED:20250515T203916Z
UID:10606-1758816000-1758819600@possiblezone.org
SUMMARY:TPZ Innovation Center Community Tour
DESCRIPTION:September 25\, 2025   |  4:00-5:00 p.m. \nCome tour the TPZ Innovation Center at 31 Health Street\, led by the TPZ Partnerships Team. \nReserve your spot today!
URL:https://possiblezone.org/events/tpz-innovation-center-community-tour-2/
END:VEVENT
BEGIN:VEVENT
DTSTART;VALUE=DATE:20250901
DTEND;VALUE=DATE:20250902
DTSTAMP:20260425T170741
CREATED:20250424T210732Z
LAST-MODIFIED:20250424T210732Z
UID:10508-1756684800-1756771199@possiblezone.org
SUMMARY:Labor Day - TPZ Closed
DESCRIPTION:
URL:https://possiblezone.org/events/labor-day-tpz-closed/
END:VEVENT
BEGIN:VEVENT
DTSTART;TZID=America/New_York:20250829T140000
DTEND;TZID=America/New_York:20250829T173000
DTSTAMP:20260425T170741
CREATED:20250424T210825Z
LAST-MODIFIED:20250424T210940Z
UID:10510-1756476000-1756488600@possiblezone.org
SUMMARY:TPZ Closing @ 2pm
DESCRIPTION:
URL:https://possiblezone.org/events/tpz-closing-2pm/
END:VEVENT
BEGIN:VEVENT
DTSTART;VALUE=DATE:20250818
DTEND;VALUE=DATE:20250822
DTSTAMP:20260425T170741
CREATED:20250425T141020Z
LAST-MODIFIED:20250425T152837Z
UID:10546-1755475200-1755820799@possiblezone.org
SUMMARY:Summer Programming: Session C (week 2)
DESCRIPTION:Deep Dive: The Past & Future of Roxbury  10:30-4:00 \nDeep Dive: Dance & Costume Design 10:30-4:00 \nDeep Dive: Future Coding / App Development with AI  10:30am – 4:00pm \n  \nQuestions? Contact the Recruitment Team
URL:https://possiblezone.org/events/summer-programming-session-c-week-2/
END:VEVENT
BEGIN:VEVENT
DTSTART;VALUE=DATE:20250811
DTEND;VALUE=DATE:20250815
DTSTAMP:20260425T170741
CREATED:20250425T140721Z
LAST-MODIFIED:20250425T140941Z
UID:10542-1754870400-1755215999@possiblezone.org
SUMMARY:Summer Programming: Session C (week 1)
DESCRIPTION:Deep Dive: The Past & Future of Roxbury  10:30-4:00 \nDeep Dive: Dance & Costume Design 10:30-4:00 \nDeep Dive: Future Coding / App Development with AI  10:30am – 4:00pm \nPathways: College Essay Writing  10:30am-12:30pm (ONE WEEK ONLY) \nQuestions? Contact the Recruitment Team
URL:https://possiblezone.org/events/summer-programming-session-c/
END:VEVENT
BEGIN:VEVENT
DTSTART;VALUE=DATE:20250804
DTEND;VALUE=DATE:20250808
DTSTAMP:20260425T170741
CREATED:20250424T224541Z
LAST-MODIFIED:20250424T224541Z
UID:10540-1754265600-1754611199@possiblezone.org
SUMMARY:Summer Programming: Session B (week 2)
DESCRIPTION:Deep Dive: Cardboard Arcade  10:30-4:00 \n\nCareer of the Future Alignment: Computer Science/IT\n\n  \nDeep Dive: Podcasting and Visual Storytelling  10:30-4:00 \n\nPartner: Northeastern University\nCareer of the Future Alignment: Fashion and Design\n\n  \nDeep Dive: Diagnostics by Design (Healthcare)  10:30-4:00 \n\nPartners: Haemonetics and Boston University’s Neuromotor Recovery Lab (NRL)\nCareer of Future Alignment: Healthcare\n\n  \nQuestions? Contact the Recruitment Team
URL:https://possiblezone.org/events/summer-programming-session-b-week-2/
END:VEVENT
BEGIN:VEVENT
DTSTART;VALUE=DATE:20250728
DTEND;VALUE=DATE:20250801
DTSTAMP:20260425T170741
CREATED:20250424T224426Z
LAST-MODIFIED:20250424T224426Z
UID:10538-1753660800-1754006399@possiblezone.org
SUMMARY:Summer Programming: Session B (week 1)
DESCRIPTION:Deep Dive: Cardboard Arcade  10:30-4:00 \n\nCareer of the Future Alignment: Computer Science/IT\n\n  \nDeep Dive: Podcasting and Visual Storytelling  10:30-4:00 \n\nPartner: Northeastern University\nCareer of the Future Alignment: Fashion and Design\n\n  \nDeep Dive: Diagnostics by Design (Healthcare)  10:30-4:00 \n\nPartners: Haemonetics and Boston University’s Neuromotor Recovery Lab (NRL)\nCareer of Future Alignment: Healthcare\n\n  \nQuestions? Contact the Recruitment Team
URL:https://possiblezone.org/events/summer-programming-session-b-week-1/
END:VEVENT
BEGIN:VEVENT
DTSTART;VALUE=DATE:20250721
DTEND;VALUE=DATE:20250725
DTSTAMP:20260425T170741
CREATED:20250424T223916Z
LAST-MODIFIED:20250424T224457Z
UID:10535-1753056000-1753401599@possiblezone.org
SUMMARY:Summer Programming - Session A (week 2)
DESCRIPTION:JULY 14- 25\, MONDAY-THURSDAY \nDeep Dive: Converse  1:30-4:00 \n\nPartner: Converse\nCareer of the Future Alignment: Fashion and Design (non-priority industry)\n\n  \nDeep Dive: Clean Energy  10:30-1:00 \n\nPartner: National Grid\nCareer of the Future Alignment:  Clean Energy\n\n  \nDeep Dive: Cyber Security – Escape Room!  10:30-4:00 \n\nPartners: Accenture and Akamai\nCareer of the Future Alignment: CompSci/IT\n\n  \nPathways Bootcamp: Building trades\, clean energy\, advanced manufacturing  10:30-4:00 \n\nPartners: TBD \nCareer of the Future Alignment: Advanced Manufacturing \n\n  \nQuestions? Contact the Recruitment Team
URL:https://possiblezone.org/events/summer-programming-session-a-week-2/
END:VEVENT
BEGIN:VEVENT
DTSTART;VALUE=DATE:20250714
DTEND;VALUE=DATE:20250718
DTSTAMP:20260425T170741
CREATED:20250424T223803Z
LAST-MODIFIED:20250424T223949Z
UID:10533-1752451200-1752796799@possiblezone.org
SUMMARY:Summer Programming - Session A (week 1)
DESCRIPTION:JULY 14- 25\, MONDAY-THURSDAY \nDeep Dive: Converse  1:30-4:00 \n\nPartner: Converse\nCareer of the Future Alignment: Fashion and Design (non-priority industry)\n\n  \nDeep Dive: Clean Energy  10:30-1:00 \n\nPartner: National Grid\nCareer of the Future Alignment:  Clean Energy\n\n  \nDeep Dive: Cyber Security – Escape Room!  10:30-4:00 \n\nPartners: Accenture and Akamai\nCareer of the Future Alignment: CompSci/IT\n\n  \nPathways Bootcamp: Building trades\, clean energy\, advanced manufacturing  10:30-4:00 \n\nPartners: TBD \nCareer of the Future Alignment: Advanced Manufacturing \n\n  \nQuestions? Contact the Recruitment Team
URL:https://possiblezone.org/events/summer-programs-session-a/
END:VEVENT
BEGIN:VEVENT
DTSTART;VALUE=DATE:20250704
DTEND;VALUE=DATE:20250705
DTSTAMP:20260425T170741
CREATED:20250424T210149Z
LAST-MODIFIED:20250424T210149Z
UID:10506-1751587200-1751673599@possiblezone.org
SUMMARY:Independence Day - TPZ Closed
DESCRIPTION:
URL:https://possiblezone.org/events/independence-day-tpz-closed/
END:VEVENT
BEGIN:VEVENT
DTSTART;TZID=America/New_York:20250703T140000
DTEND;TZID=America/New_York:20250703T170000
DTSTAMP:20260425T170741
CREATED:20250424T210124Z
LAST-MODIFIED:20250424T210124Z
UID:10504-1751551200-1751562000@possiblezone.org
SUMMARY:TPZ Closing Early @ 2pm
DESCRIPTION:
URL:https://possiblezone.org/events/tpz-closing-early-2pm/
END:VEVENT
BEGIN:VEVENT
DTSTART;VALUE=DATE:20250625
DTEND;VALUE=DATE:20250627
DTSTAMP:20260425T170741
CREATED:20250424T210026Z
LAST-MODIFIED:20250424T220403Z
UID:10502-1750809600-1750982399@possiblezone.org
SUMMARY:TPZ Innovation Center Closed
DESCRIPTION:
URL:https://possiblezone.org/events/tpz-closed/
END:VEVENT
BEGIN:VEVENT
DTSTART;VALUE=DATE:20250619
DTEND;VALUE=DATE:20250620
DTSTAMP:20260425T170741
CREATED:20250424T205821Z
LAST-MODIFIED:20250424T205855Z
UID:10500-1750291200-1750377599@possiblezone.org
SUMMARY:Juneteenth - TPZ Closed
DESCRIPTION:
URL:https://possiblezone.org/events/juneteenth-tpz-closed/
END:VEVENT
BEGIN:VEVENT
DTSTART;TZID=America/New_York:20250618T160000
DTEND;TZID=America/New_York:20250618T183000
DTSTAMP:20260425T170741
CREATED:20250424T205411Z
LAST-MODIFIED:20250424T205418Z
UID:10490-1750262400-1750271400@possiblezone.org
SUMMARY:Spring Term Ends
DESCRIPTION:
URL:https://possiblezone.org/events/spring-term-ends-2/
END:VEVENT
BEGIN:VEVENT
DTSTART;TZID=America/New_York:20250613T170000
DTEND;TZID=America/New_York:20250613T190000
DTSTAMP:20260425T170741
CREATED:20250515T205214Z
LAST-MODIFIED:20250515T205214Z
UID:10622-1749834000-1749841200@possiblezone.org
SUMMARY:Sip & Create: Caribbean-American Heritage Month & Father's Day
DESCRIPTION:Join us to create crafts and engage in STEAM (science\, technology\, engineering\, arts\, mathematics) activities to celebrate Caribbean-American Heritage Month and Father’s Day. Children under 18 must be accompanied by an adult. Reserve your spot
URL:https://possiblezone.org/events/sip-create-caribbean-american-heritage-month-fathers-day/
LOCATION:TPZ Innovation Center\, 31 Heath Street\, Jamaica Plain\, MA\, 02130\, United States
END:VEVENT
BEGIN:VEVENT
DTSTART;TZID=America/New_York:20250611T060000
DTEND;TZID=America/New_York:20250611T193000
DTSTAMP:20260425T170741
CREATED:20250515T204833Z
LAST-MODIFIED:20250515T204833Z
UID:10620-1749621600-1749670200@possiblezone.org
SUMMARY:Financially Lit Moms\, Part II
DESCRIPTION:Join CFA of Boston and TPZ to learn about financial literacy and credit building. Registration info to come. Questions? Email Dre
URL:https://possiblezone.org/events/financially-lit-moms-part-ii/
END:VEVENT
BEGIN:VEVENT
DTSTART;TZID=America/New_York:20250609T060000
DTEND;TZID=America/New_York:20250609T193000
DTSTAMP:20260425T170741
CREATED:20250515T204746Z
LAST-MODIFIED:20250515T204746Z
UID:10618-1749448800-1749497400@possiblezone.org
SUMMARY:Financially Lit Moms\, Part I
DESCRIPTION:Join CFA of Boston and TPZ to learn about financial literacy and credit building. Registration info to come. Questions? Email Dre
URL:https://possiblezone.org/events/financially-lit-moms-part-i/
END:VEVENT
BEGIN:VEVENT
DTSTART;TZID=America/New_York:20250604T160000
DTEND;TZID=America/New_York:20250604T170000
DTSTAMP:20260425T170741
CREATED:20250515T203828Z
LAST-MODIFIED:20250515T205410Z
UID:10607-1749052800-1749056400@possiblezone.org
SUMMARY:Take a Tour of the TPZ Innovation Center
DESCRIPTION:June 4\, 2025   |  4:00-5:00 p.m. \nDo you want to learn more about what goes on inside our Innovation Center? Please sign up for this informational tour and join us at 4:00 p.m.!
URL:https://possiblezone.org/events/take-a-tpz-tour-12/
LOCATION:TPZ Innovation Center\, 31 Heath Street\, Jamaica Plain\, MA\, 02130\, United States
END:VEVENT
BEGIN:VEVENT
DTSTART;TZID=America/New_York:20250528T160000
DTEND;TZID=America/New_York:20250528T170000
DTSTAMP:20260425T170741
CREATED:20250424T202201Z
LAST-MODIFIED:20250424T202208Z
UID:10471-1748448000-1748451600@possiblezone.org
SUMMARY:TPZ Bring A Friend Day
DESCRIPTION:May 28\, 2025   |   4:00-5:00 p.m.\n\n\n\nFamilies and students who are interested in joining TPZ can tour the Innovation Center and learn more from our Recruitment Team.  Reserve your spot today!
URL:https://possiblezone.org/events/tpz-bring-a-friend-day/
END:VEVENT
BEGIN:VEVENT
DTSTART;VALUE=DATE:20250526
DTEND;VALUE=DATE:20250527
DTSTAMP:20260425T170741
CREATED:20250424T205733Z
LAST-MODIFIED:20250424T205733Z
UID:10498-1748217600-1748303999@possiblezone.org
SUMMARY:Memorial Day - TPZ Closed
DESCRIPTION:
URL:https://possiblezone.org/events/memorial-day-tpz-closed/
END:VEVENT
END:VCALENDAR