BEGIN:VCALENDAR
VERSION:2.0
PRODID:-//The Possible Zone - ECPv6.15.11//NONSGML v1.0//EN
CALSCALE:GREGORIAN
METHOD:PUBLISH
X-WR-CALNAME:The Possible Zone
X-ORIGINAL-URL:https://possiblezone.org
X-WR-CALDESC:Events for The Possible Zone
REFRESH-INTERVAL;VALUE=DURATION:PT1H
X-Robots-Tag:noindex
X-PUBLISHED-TTL:PT1H
BEGIN:VTIMEZONE
TZID:America/New_York
BEGIN:DAYLIGHT
TZOFFSETFROM:-0500
TZOFFSETTO:-0400
TZNAME:EDT
DTSTART:20230312T070000
END:DAYLIGHT
BEGIN:STANDARD
TZOFFSETFROM:-0400
TZOFFSETTO:-0500
TZNAME:EST
DTSTART:20231105T060000
END:STANDARD
BEGIN:DAYLIGHT
TZOFFSETFROM:-0500
TZOFFSETTO:-0400
TZNAME:EDT
DTSTART:20240310T070000
END:DAYLIGHT
BEGIN:STANDARD
TZOFFSETFROM:-0400
TZOFFSETTO:-0500
TZNAME:EST
DTSTART:20241103T060000
END:STANDARD
BEGIN:DAYLIGHT
TZOFFSETFROM:-0500
TZOFFSETTO:-0400
TZNAME:EDT
DTSTART:20250309T070000
END:DAYLIGHT
BEGIN:STANDARD
TZOFFSETFROM:-0400
TZOFFSETTO:-0500
TZNAME:EST
DTSTART:20251102T060000
END:STANDARD
END:VTIMEZONE
BEGIN:VEVENT
DTSTART;TZID=America/New_York:20240923T160000
DTEND;TZID=America/New_York:20240923T183000
DTSTAMP:20260426T002251
CREATED:20240911T153505Z
LAST-MODIFIED:20240911T153505Z
UID:9683-1727107200-1727116200@possiblezone.org
SUMMARY:Fall Afterschool Classes Begin Today!
DESCRIPTION:Welcome to the Fall Term!
URL:https://possiblezone.org/events/fall-afterschool-classes-begin-today/
END:VEVENT
BEGIN:VEVENT
DTSTART;TZID=America/New_York:20240917T134500
DTEND;TZID=America/New_York:20240917T200000
DTSTAMP:20260426T002251
CREATED:20240911T151749Z
LAST-MODIFIED:20240912T125606Z
UID:9674-1726580700-1726603200@possiblezone.org
SUMMARY:NCAN Conference Presentation: Data & Post-secondary Advising
DESCRIPTION:Daina Estime\, Senior Evaluation Analyst\, is leading a Round Table presentation during the National College Attainment Network (NCAN) Conference in California on September 17th. \nHer presentation is: Data & Post-secondary Advising: How TPZ unites the two to design programming to help students achieve their college and career goals. Email Daina. \nA PDF of Daina’s slides is available here: NCAN Presentation 9.17.24\n \nResources shared include: \n\nTPZ’s Theory of Change and Evaluation Plan\nNational Institute on Out-of-School Time (NIOST)\nSearch Institute\nATLAS-Looking at Data Protocol\nBurning Glass Institute\nJobs for the Future
URL:https://possiblezone.org/events/ncan-conference-presentation-data-post-secondary-advising/
END:VEVENT
BEGIN:VEVENT
DTSTART;TZID=America/New_York:20240916T083000
DTEND;TZID=America/New_York:20240916T143000
DTSTAMP:20260426T002251
CREATED:20240710T233132Z
LAST-MODIFIED:20240911T154810Z
UID:9407-1726475400-1726497000@possiblezone.org
SUMMARY:Fall School-Day Program Classes Begin Today!
DESCRIPTION:Welcome to the Fall Term at TPZ:\nEnglish High School\, Fenway High School\, and Green Academy
URL:https://possiblezone.org/events/fall-classes-begin-today/
END:VEVENT
BEGIN:VEVENT
DTSTART;VALUE=DATE:20240916
DTEND;VALUE=DATE:20240917
DTSTAMP:20260426T002251
CREATED:20240710T231401Z
LAST-MODIFIED:20240911T153404Z
UID:9374-1726444800-1726531199@possiblezone.org
SUMMARY:Last Day to Register for Fall Afterschool Discover Class
DESCRIPTION:Complete Enrollment Form by end of day.
URL:https://possiblezone.org/events/last-day-to-register-for-fall-classes/
END:VEVENT
BEGIN:VEVENT
DTSTART;VALUE=DATE:20240902
DTEND;VALUE=DATE:20240903
DTSTAMP:20260426T002251
CREATED:20240710T232905Z
LAST-MODIFIED:20240710T232905Z
UID:9405-1725235200-1725321599@possiblezone.org
SUMMARY:TPZ Closed Today
DESCRIPTION:Have a good Labor Day.
URL:https://possiblezone.org/events/tpz-closed-today-5/
END:VEVENT
BEGIN:VEVENT
DTSTART;VALUE=DATE:20240830
DTEND;VALUE=DATE:20240831
DTSTAMP:20260426T002251
CREATED:20240710T230847Z
LAST-MODIFIED:20240710T231803Z
UID:9368-1724976000-1725062399@possiblezone.org
SUMMARY:Building Closes at 2:00 Today
DESCRIPTION:Have a good holiday weekend.
URL:https://possiblezone.org/events/building-closes-at-200-today/
END:VEVENT
BEGIN:VEVENT
DTSTART;TZID=America/New_York:20240819T103000
DTEND;TZID=America/New_York:20240819T150000
DTSTAMP:20260426T002251
CREATED:20240710T230603Z
LAST-MODIFIED:20240710T232106Z
UID:9366-1724063400-1724079600@possiblezone.org
SUMMARY:Podcasting Our Stories
DESCRIPTION:Registration is full; this course is full.
URL:https://possiblezone.org/events/podcasting-our-stories/
END:VEVENT
BEGIN:VEVENT
DTSTART;TZID=America/New_York:20240819T103000
DTEND;TZID=America/New_York:20240819T150000
DTSTAMP:20260426T002251
CREATED:20240710T230528Z
LAST-MODIFIED:20240710T232125Z
UID:9364-1724063400-1724079600@possiblezone.org
SUMMARY:Upcycling: Creative Ways to Reuse & Repurpose
DESCRIPTION:Registration is full; this course is full.
URL:https://possiblezone.org/events/upcycling-creative-ways-to-reuse-repurpose/
END:VEVENT
BEGIN:VEVENT
DTSTART;TZID=America/New_York:20240819T103000
DTEND;TZID=America/New_York:20240819T150000
DTSTAMP:20260426T002251
CREATED:20240710T230445Z
LAST-MODIFIED:20240710T232144Z
UID:9362-1724063400-1724079600@possiblezone.org
SUMMARY:Dance & Electronics Course Begins
DESCRIPTION:Registration is full; this course is full.
URL:https://possiblezone.org/events/dance-electronics-course-begins/
END:VEVENT
BEGIN:VEVENT
DTSTART;VALUE=DATE:20240816
DTEND;VALUE=DATE:20240817
DTSTAMP:20260426T002251
CREATED:20240710T230956Z
LAST-MODIFIED:20240710T232158Z
UID:9372-1723766400-1723852799@possiblezone.org
SUMMARY:TPZ Closed Today
DESCRIPTION:The Innovation Center is closed today. Have a good weekend.
URL:https://possiblezone.org/events/tpz-closed-today-2/
END:VEVENT
BEGIN:VEVENT
DTSTART;TZID=America/New_York:20240812T103000
DTEND;TZID=America/New_York:20240812T150000
DTSTAMP:20260426T002251
CREATED:20240710T230328Z
LAST-MODIFIED:20240710T232216Z
UID:9358-1723458600-1723474800@possiblezone.org
SUMMARY:Make Big Things with Big Equipment Course Begins
DESCRIPTION:Registration is full; this course is full.
URL:https://possiblezone.org/events/make-big-things-with-big-equipment-course-begins/
END:VEVENT
BEGIN:VEVENT
DTSTART;TZID=America/New_York:20240812T103000
DTEND;TZID=America/New_York:20240812T150000
DTSTAMP:20260426T002251
CREATED:20240710T230244Z
LAST-MODIFIED:20240710T232313Z
UID:9356-1723458600-1723474800@possiblezone.org
SUMMARY:Animation & Digital Art Course Begins
DESCRIPTION:Registration is closed; this course is full.
URL:https://possiblezone.org/events/animation-digital-art-course-begins/
END:VEVENT
BEGIN:VEVENT
DTSTART;TZID=America/New_York:20240812T103000
DTEND;TZID=America/New_York:20240812T150000
DTSTAMP:20260426T002251
CREATED:20240710T230152Z
LAST-MODIFIED:20240710T232339Z
UID:9354-1723458600-1723474800@possiblezone.org
SUMMARY:Jewelry & Digital Fabrication Course Begins
DESCRIPTION:Registration is closed; this course is full
URL:https://possiblezone.org/events/jewelry-digital-fabrication-course-begins/
END:VEVENT
BEGIN:VEVENT
DTSTART;TZID=America/New_York:20240812T103000
DTEND;TZID=America/New_York:20240812T130000
DTSTAMP:20260426T002251
CREATED:20240710T230406Z
LAST-MODIFIED:20240710T232400Z
UID:9360-1723458600-1723467600@possiblezone.org
SUMMARY:College Essay Writing Course Begins
DESCRIPTION:Registration is full; this course is full.
URL:https://possiblezone.org/events/college-essay-writing-course-begins/
END:VEVENT
BEGIN:VEVENT
DTSTART;TZID=America/New_York:20240805T103000
DTEND;TZID=America/New_York:20240805T150000
DTSTAMP:20260426T002251
CREATED:20240710T230107Z
LAST-MODIFIED:20240710T232453Z
UID:9352-1722853800-1722870000@possiblezone.org
SUMMARY:Music Recording & Synthesizers Course Begins
DESCRIPTION:Registration is closed; this course is full.
URL:https://possiblezone.org/events/music-recording-synthesizers-course-begins/
END:VEVENT
BEGIN:VEVENT
DTSTART;TZID=America/New_York:20240805T103000
DTEND;TZID=America/New_York:20240805T150000
DTSTAMP:20260426T002251
CREATED:20240710T225747Z
LAST-MODIFIED:20240710T232432Z
UID:9345-1722853800-1722870000@possiblezone.org
SUMMARY:Fun with Fiber Arts Begins
DESCRIPTION:Registration has closed; this class is full.
URL:https://possiblezone.org/events/fun-with-fiber-arts-begins/
END:VEVENT
BEGIN:VEVENT
DTSTART;VALUE=DATE:20240726
DTEND;VALUE=DATE:20240727
DTSTAMP:20260426T002251
CREATED:20240710T230922Z
LAST-MODIFIED:20240710T232508Z
UID:9370-1721952000-1722038399@possiblezone.org
SUMMARY:TPZ Closed Today
DESCRIPTION:The Innovation Center is closed today. Have a good weekend.
URL:https://possiblezone.org/events/tpz-closed-today/
END:VEVENT
BEGIN:VEVENT
DTSTART;TZID=America/New_York:20240722T103000
DTEND;TZID=America/New_York:20240722T150000
DTSTAMP:20260426T002251
CREATED:20240710T225540Z
LAST-MODIFIED:20240710T225827Z
UID:9343-1721644200-1721660400@possiblezone.org
SUMMARY:Incubate Summer Course begins
DESCRIPTION:Incubate summer course begins. Registration is closed; this course is full.
URL:https://possiblezone.org/events/incubate-summer-course-begins/
END:VEVENT
BEGIN:VEVENT
DTSTART;TZID=America/New_York:20240722T103000
DTEND;TZID=America/New_York:20240722T150000
DTSTAMP:20260426T002251
CREATED:20240710T225434Z
LAST-MODIFIED:20240710T225850Z
UID:9341-1721644200-1721660400@possiblezone.org
SUMMARY:College & Career Bootcamp Begins
DESCRIPTION:Registration has closed; this course is full.
URL:https://possiblezone.org/events/college-career-bootcamp-begins/
END:VEVENT
BEGIN:VEVENT
DTSTART;TZID=America/New_York:20240715T143000
DTEND;TZID=America/New_York:20240715T170000
DTSTAMP:20260426T002251
CREATED:20240710T165539Z
LAST-MODIFIED:20240710T225906Z
UID:9324-1721053800-1721062800@possiblezone.org
SUMMARY:National Grid Clean Energy Deep Dive Begins
DESCRIPTION:Registration has closed; this course is full.
URL:https://possiblezone.org/events/national-grid-clean-energy-deep-dive-begins/
END:VEVENT
BEGIN:VEVENT
DTSTART;TZID=America/New_York:20240715T143000
DTEND;TZID=America/New_York:20240715T170000
DTSTAMP:20260426T002251
CREATED:20240430T172355Z
LAST-MODIFIED:20240710T225255Z
UID:8946-1721053800-1721062800@possiblezone.org
SUMMARY:Converse Product Design Deep Dive Begins
DESCRIPTION:Registration has closed; this session is full.
URL:https://possiblezone.org/events/converse-product-design-deep-dive-begins/
END:VEVENT
BEGIN:VEVENT
DTSTART;TZID=America/New_York:20240715T103000
DTEND;TZID=America/New_York:20240715T150000
DTSTAMP:20260426T002251
CREATED:20240710T225104Z
LAST-MODIFIED:20240710T225936Z
UID:9337-1721039400-1721055600@possiblezone.org
SUMMARY:Ideate Summer Course begins
DESCRIPTION:Ideate summer course begins. Registration is closed; this course is full.
URL:https://possiblezone.org/events/ideate-summer-course-begins/
END:VEVENT
BEGIN:VEVENT
DTSTART;VALUE=DATE:20240715
DTEND;VALUE=DATE:20240716
DTSTAMP:20260426T002251
CREATED:20240430T171128Z
LAST-MODIFIED:20240710T165714Z
UID:8944-1721001600-1721087999@possiblezone.org
SUMMARY:Summer Term Begins
DESCRIPTION:Class schedule will be announced soon. Registration will open soon.
URL:https://possiblezone.org/events/summer-term-begins/
END:VEVENT
BEGIN:VEVENT
DTSTART;VALUE=DATE:20240708
DTEND;VALUE=DATE:20240713
DTSTAMP:20260426T002251
CREATED:20240710T232747Z
LAST-MODIFIED:20240710T232811Z
UID:9401-1720396800-1720828799@possiblezone.org
SUMMARY:Building Closed for Maintenance/Staff Working Remotely
DESCRIPTION:
URL:https://possiblezone.org/events/building-closed-staff-working-remotely/
END:VEVENT
BEGIN:VEVENT
DTSTART;VALUE=DATE:20240705
DTEND;VALUE=DATE:20240706
DTSTAMP:20260426T002251
CREATED:20240710T232635Z
LAST-MODIFIED:20240710T232635Z
UID:9399-1720137600-1720223999@possiblezone.org
SUMMARY:TPZ Closed Today
DESCRIPTION:Have a good weekend!
URL:https://possiblezone.org/events/tpz-closed-today-4/
END:VEVENT
BEGIN:VEVENT
DTSTART;VALUE=DATE:20240704
DTEND;VALUE=DATE:20240705
DTSTAMP:20260426T002251
CREATED:20240710T232609Z
LAST-MODIFIED:20240710T232609Z
UID:9397-1720051200-1720137599@possiblezone.org
SUMMARY:TPZ Closed Today
DESCRIPTION:Happy Independence Day!
URL:https://possiblezone.org/events/tpz-closed-today-3/
END:VEVENT
BEGIN:VEVENT
DTSTART;TZID=America/New_York:20240614T173000
DTEND;TZID=America/New_York:20240614T193000
DTSTAMP:20260426T002251
CREATED:20240605T202148Z
LAST-MODIFIED:20240605T202400Z
UID:9174-1718386200-1718393400@possiblezone.org
SUMMARY:Sip 'N Create
DESCRIPTION:Join us at TPZ for an exciting\, interactive and family-friendly event that sparks creativity and unleashes the inner inventor in you! We’ll also be recognizing Pride Month\, Caribbean Heritage Month\, and Juneteenth. \nUnder 18? You must be accompanied by an adult. \nSpace is limited. Registration is required.
URL:https://possiblezone.org/events/sip-n-create-2/
LOCATION:TPZ Innovation Center\, 31 Heath Street\, Jamaica Plain\, MA\, 02130\, United States
END:VEVENT
BEGIN:VEVENT
DTSTART;VALUE=DATE:20240613
DTEND;VALUE=DATE:20240614
DTSTAMP:20260426T002251
CREATED:20240430T170739Z
LAST-MODIFIED:20240430T170739Z
UID:8942-1718236800-1718323199@possiblezone.org
SUMMARY:Spring Term Ends
DESCRIPTION:Last day of Spring Term 2024
URL:https://possiblezone.org/events/spring-term-ends/
END:VEVENT
BEGIN:VEVENT
DTSTART;TZID=America/New_York:20240605T160000
DTEND;TZID=America/New_York:20240605T164500
DTSTAMP:20260426T002251
CREATED:20240409T204904Z
LAST-MODIFIED:20240409T204904Z
UID:8550-1717603200-1717605900@possiblezone.org
SUMMARY:Take a TPZ Tour
DESCRIPTION:Do you want to learn more about what goes on inside our Innovation Center? Please sign up for this informational tour and join us at 4:00 p.m.!
URL:https://possiblezone.org/events/take-a-tpz-tour-5/
LOCATION:TPZ Innovation Center\, 31 Heath Street\, Jamaica Plain\, MA\, 02130\, United States
END:VEVENT
BEGIN:VEVENT
DTSTART;TZID=America/New_York:20240515T164500
DTEND;TZID=America/New_York:20240515T173000
DTSTAMP:20260426T002251
CREATED:20240409T204734Z
LAST-MODIFIED:20240409T204734Z
UID:8546-1715791500-1715794200@possiblezone.org
SUMMARY:Take a TPZ Tour
DESCRIPTION:Do you want to learn more about what goes on inside our Innovation Center? Please sign up for this informational tour and join us at 4:45 p.m.!
URL:https://possiblezone.org/events/take-a-tpz-tour-3/
LOCATION:TPZ Innovation Center\, 31 Heath Street\, Jamaica Plain\, MA\, 02130\, United States
END:VEVENT
END:VCALENDAR